BEGIN:VCALENDAR
VERSION:2.0
PRODID:-//pretix//pretix.eu//
BEGIN:VTIMEZONE
TZID:Europe/Berlin
BEGIN:STANDARD
DTSTART:20001029T040000
RRULE:FREQ=YEARLY;BYDAY=-1SU;BYMONTH=10
TZNAME:CET
TZOFFSETFROM:+0200
TZOFFSETTO:+0100
END:STANDARD
BEGIN:DAYLIGHT
DTSTART:20000326T030000
RRULE:FREQ=YEARLY;BYDAY=-1SU;BYMONTH=3
TZNAME:CEST
TZOFFSETFROM:+0100
TZOFFSETTO:+0200
END:DAYLIGHT
END:VTIMEZONE
BEGIN:VEVENT
UID:pretix-hacker-school-HH84-0@tickets.hacker-school.de
DTSTART;TZID=Europe/Berlin:20231016T140000
DTEND;TZID=Europe/Berlin:20231016T170000
DESCRIPTION:Tickets: https://tickets.hacker-school.de/HH84/\nVeranstalter: 
 Hacker School gGmbH
DTSTAMP:20260420T130757Z
LOCATION:Haus der Familie\, Bei der Schilleroper 15\, 22767\, Hamburg\, Ger
 many
SUMMARY:HH84 Haus der Familie Minecraft Ferienkurs
END:VEVENT
END:VCALENDAR
