BEGIN:VCALENDAR
VERSION:2.0
PRODID:-//pretix//pretix.eu//
BEGIN:VTIMEZONE
TZID:Europe/Berlin
BEGIN:STANDARD
DTSTART:20001029T040000
RRULE:FREQ=YEARLY;BYDAY=-1SU;BYMONTH=10
TZNAME:CET
TZOFFSETFROM:+0200
TZOFFSETTO:+0100
END:STANDARD
BEGIN:DAYLIGHT
DTSTART:20000326T030000
RRULE:FREQ=YEARLY;BYDAY=-1SU;BYMONTH=3
TZNAME:CEST
TZOFFSETFROM:+0100
TZOFFSETTO:+0200
END:DAYLIGHT
END:VTIMEZONE
BEGIN:VEVENT
UID:pretix-hacker-school-ON358PythonAdv-0@tickets.hacker-school.de
DTSTART;TZID=Europe/Berlin:20231014T100000
DTEND;TZID=Europe/Berlin:20231021T140000
DESCRIPTION:Tickets: https://tickets.hacker-school.de/ON358PythonAdv/\nVera
 nstalter: Hacker School gGmbH
DTSTAMP:20260420T103604Z
LOCATION:@online\, bei Dir zuhause\, 20097\, in Deiner Stadt\, Germany
SUMMARY:ON358 Hacker School@home Python advanced powered by Accenture
END:VEVENT
END:VCALENDAR
