BEGIN:VCALENDAR
VERSION:2.0
PRODID:-//pretix//pretix.eu//
BEGIN:VTIMEZONE
TZID:Europe/Berlin
BEGIN:STANDARD
DTSTART:20001029T040000
RRULE:FREQ=YEARLY;BYDAY=-1SU;BYMONTH=10
TZNAME:CET
TZOFFSETFROM:+0200
TZOFFSETTO:+0100
END:STANDARD
BEGIN:DAYLIGHT
DTSTART:20000326T030000
RRULE:FREQ=YEARLY;BYDAY=-1SU;BYMONTH=3
TZNAME:CEST
TZOFFSETFROM:+0100
TZOFFSETTO:+0200
END:DAYLIGHT
END:VTIMEZONE
BEGIN:VEVENT
UID:pretix-hacker-school-S17PythonAdvanced-0@tickets.hacker-school.de
DTSTART;TZID=Europe/Berlin:20231118T100000
DTEND;TZID=Europe/Berlin:20231119T150000
DESCRIPTION:Tickets: https://tickets.hacker-school.de/S17PythonAdvanced/\nV
 eranstalter: Hacker School gGmbH
DTSTAMP:20260420T080857Z
LOCATION:adesso SE Stuttgart-Vaihingen\, Ruppmannstraße 26\, 70565\, Stutt
 gart\, Germany
SUMMARY:S17 Hacker School Python advanced powered by adesso
END:VEVENT
END:VCALENDAR
