BEGIN:VCALENDAR
VERSION:2.0
PRODID:-//pretix//pretix.eu//
BEGIN:VTIMEZONE
TZID:Europe/Berlin
BEGIN:STANDARD
DTSTART:20001029T040000
RRULE:FREQ=YEARLY;BYDAY=-1SU;BYMONTH=10
TZNAME:CET
TZOFFSETFROM:+0200
TZOFFSETTO:+0100
END:STANDARD
BEGIN:DAYLIGHT
DTSTART:20000326T030000
RRULE:FREQ=YEARLY;BYDAY=-1SU;BYMONTH=3
TZNAME:CEST
TZOFFSETFROM:+0100
TZOFFSETTO:+0200
END:DAYLIGHT
END:VTIMEZONE
BEGIN:VEVENT
UID:pretix-hacker-school-YSH09-0@tickets.hacker-school.de
DTSTART;TZID=Europe/Berlin:20220902T084500
DTEND;TZID=Europe/Berlin:20220902T124500
DESCRIPTION:Tickets: https://tickets.hacker-school.de/YSH09/\nVeranstalter:
  Hacker School gGmbH
DTSTAMP:20260424T072336Z
LOCATION:@online\, bei Dir zuhause\, 20097\, in Deiner Stadt\, Germany
SUMMARY:YSH09 IGS Kronsberg Hannover
END:VEVENT
END:VCALENDAR
