BEGIN:VCALENDAR
VERSION:2.0
PRODID:-//pretix//pretix.eu//
BEGIN:VTIMEZONE
TZID:Europe/Berlin
BEGIN:STANDARD
DTSTART:20001029T040000
RRULE:FREQ=YEARLY;BYDAY=-1SU;BYMONTH=10
TZNAME:CET
TZOFFSETFROM:+0200
TZOFFSETTO:+0100
END:STANDARD
BEGIN:DAYLIGHT
DTSTART:20000326T030000
RRULE:FREQ=YEARLY;BYDAY=-1SU;BYMONTH=3
TZNAME:CEST
TZOFFSETFROM:+0100
TZOFFSETTO:+0200
END:DAYLIGHT
END:VTIMEZONE
BEGIN:VEVENT
UID:pretix-hacker-school-a0AOj000003mJZhMAM-0@tickets.hacker-school.de
DTSTART;TZID=Europe/Berlin:20241012T100000
DTEND;TZID=Europe/Berlin:20241013T150000
DESCRIPTION:Tickets: https://tickets.hacker-school.de/a0AOj000003mJZhMAM/\n
 Veranstalter: Hacker School gGmbH
DTSTAMP:20260422T144417Z
LOCATION:DKB Code Factory GmbH\, Friedrichstraße 200 / 5. Etage\, 10117\, 
 Berlin\, Germany
SUMMARY:B23 Hacker School Quiz in Python powered by DKB & Code Factory
END:VEVENT
END:VCALENDAR
