BEGIN:VCALENDAR
VERSION:2.0
PRODID:-//pretix//pretix.eu//
BEGIN:VTIMEZONE
TZID:Europe/Berlin
BEGIN:STANDARD
DTSTART:20001029T040000
RRULE:FREQ=YEARLY;BYDAY=-1SU;BYMONTH=10
TZNAME:CET
TZOFFSETFROM:+0200
TZOFFSETTO:+0100
END:STANDARD
BEGIN:DAYLIGHT
DTSTART:20000326T030000
RRULE:FREQ=YEARLY;BYDAY=-1SU;BYMONTH=3
TZNAME:CEST
TZOFFSETFROM:+0100
TZOFFSETTO:+0200
END:DAYLIGHT
END:VTIMEZONE
BEGIN:VEVENT
UID:pretix-hacker-school-a0AOj00000C7GxFMAV-0@tickets.hacker-school.de
DTSTART;TZID=Europe/Berlin:20260926T090000
DTEND;TZID=Europe/Berlin:20260927T130000
DESCRIPTION:Tickets: https://tickets.hacker-school.de/a0AOj00000C7GxFMAV/\n
 Veranstalter: Hacker School gGmbH
DTSTAMP:20260420T172503Z
LOCATION:Deloitte GmbH Wirtschaftsprüfungsgesellschaft Frankfurt\, Europa-
 Allee 91\, 60486\, Frankfurt am Main\, Germany
SUMMARY:CG-HE-WVx8M @Deloitte GmbH Frankfurt
END:VEVENT
END:VCALENDAR
