BEGIN:VCALENDAR
VERSION:2.0
PRODID:-//pretix//pretix.eu//
BEGIN:VTIMEZONE
TZID:Europe/Berlin
BEGIN:STANDARD
DTSTART:20001029T040000
RRULE:FREQ=YEARLY;BYDAY=-1SU;BYMONTH=10
TZNAME:CET
TZOFFSETFROM:+0200
TZOFFSETTO:+0100
END:STANDARD
BEGIN:DAYLIGHT
DTSTART:20000326T030000
RRULE:FREQ=YEARLY;BYDAY=-1SU;BYMONTH=3
TZNAME:CEST
TZOFFSETFROM:+0100
TZOFFSETTO:+0200
END:DAYLIGHT
END:VTIMEZONE
BEGIN:VEVENT
UID:pretix-hacker-school-a0AOj00000C7P2nMAF-0@tickets.hacker-school.de
DTSTART;TZID=Europe/Berlin:20261212T090000
DTEND;TZID=Europe/Berlin:20261213T130000
DESCRIPTION:Tickets: https://tickets.hacker-school.de/a0AOj00000C7P2nMAF/\n
 Veranstalter: Hacker School gGmbH
DTSTAMP:20260420T174141Z
LOCATION:Deloitte GmbH Wirtschaftsprüfungsgesellschaft Berlin\, Kurfürste
 ndamm 23\, 10719\, Berlin\, Germany
SUMMARY:CG-BE-9v7J5 @Deloitte GmbH Berlin
END:VEVENT
END:VCALENDAR
