BEGIN:VCALENDAR
VERSION:2.0
PRODID:-//pretix//pretix.eu//
BEGIN:VTIMEZONE
TZID:Europe/Berlin
BEGIN:STANDARD
DTSTART:20001029T040000
RRULE:FREQ=YEARLY;BYDAY=-1SU;BYMONTH=10
TZNAME:CET
TZOFFSETFROM:+0200
TZOFFSETTO:+0100
END:STANDARD
BEGIN:DAYLIGHT
DTSTART:20000326T030000
RRULE:FREQ=YEARLY;BYDAY=-1SU;BYMONTH=3
TZNAME:CEST
TZOFFSETFROM:+0100
TZOFFSETTO:+0200
END:DAYLIGHT
END:VTIMEZONE
BEGIN:VEVENT
UID:pretix-hacker-school-a0AOj00000Dnt0fMAB-0@tickets.hacker-school.de
DTSTART;TZID=Europe/Berlin:20260423T093000
DTEND;TZID=Europe/Berlin:20260423T150000
DESCRIPTION:Tickets: https://tickets.hacker-school.de/a0AOj00000Dnt0fMAB/\n
 Veranstalter: Hacker School gGmbH
DTSTAMP:20260421T105722Z
LOCATION:d-fine GmbH Düsseldorf\, Gustaf-Gründgens-Platz 5\, 40211\, Düs
 seldorf\, Germany
SUMMARY:CG-HE-fvQJp-a Girls' Day 2026 @ d-fine GmbH Duesseldorf
END:VEVENT
END:VCALENDAR
