BEGIN:VCALENDAR
VERSION:2.0
PRODID:-//pretix//pretix.eu//
BEGIN:VTIMEZONE
TZID:Europe/Berlin
BEGIN:STANDARD
DTSTART:20001029T040000
RRULE:FREQ=YEARLY;BYDAY=-1SU;BYMONTH=10
TZNAME:CET
TZOFFSETFROM:+0200
TZOFFSETTO:+0100
END:STANDARD
BEGIN:DAYLIGHT
DTSTART:20000326T030000
RRULE:FREQ=YEARLY;BYDAY=-1SU;BYMONTH=3
TZNAME:CEST
TZOFFSETFROM:+0100
TZOFFSETTO:+0200
END:DAYLIGHT
END:VTIMEZONE
BEGIN:VEVENT
UID:pretix-hacker-school-a0AOj00000DonsVMAR-0@tickets.hacker-school.de
DTSTART;TZID=Europe/Berlin:20260423T090000
DTEND;TZID=Europe/Berlin:20260423T140000
DESCRIPTION:Tickets: https://tickets.hacker-school.de/a0AOj00000DonsVMAR/\n
 Veranstalter: Hacker School gGmbH
DTSTAMP:20260421T105701Z
LOCATION:iteratec GmbH Hamburg\, Am Sandtorkai 75\, 20457\, Hamburg\, Germa
 ny
SUMMARY:CG-HH-6cXgv Girls' Day 2026 @ iteratec GmbH Hamburg
END:VEVENT
END:VCALENDAR
